View In:
ArcGIS JavaScript
ArcGIS Online Map Viewer
ArcGIS Earth
Service Description: Kaavoitus/Kaavat_testi_mosaic_dataset
Name: Kaavoitus/Kaavat_testi_mosaic_dataset
Description:
Single Fused Map Cache: false
Extent:
XMin: 2.2480137148525618E7
YMin: 6999439.678244021
XMax: 2.2480431348525614E7
YMax: 6999678.678244016
Spatial Reference: 3876
(3876)
LatestVCSWkid(0)
Initial Extent:
XMin: 2.2480137148525618E7
YMin: 6999439.678244021
XMax: 2.2480431348525614E7
YMax: 6999678.678244016
Spatial Reference: 3876
(3876)
LatestVCSWkid(0)
Full Extent:
XMin: 2.2480137148525618E7
YMin: 6999439.678244021
XMax: 2.2480431348525614E7
YMax: 6999678.678244016
Spatial Reference: 3876
(3876)
LatestVCSWkid(0)
Time Info:
Start Time Field: hyv_pvm
End Time Field: null
Time Extent:
[1983/04/18 00:00:00 UTC, 1999/01/25 00:00:00 UTC]
Time Reference:
N/A
Pixel Size X: 0.19999999999696103
Pixel Size Y: 0.19999999999610324
Band Count: 4
Pixel Type: U1
RasterFunction Infos: {"rasterFunctionInfos": [{
"name": "None",
"description": "",
"help": ""
}]}
Mensuration Capabilities: Basic
Inspection Capabilities:
Has Histograms: true
Has Colormap: false
Has Multi Dimensions : false
Rendering Rule:
Min Scale: 0
Max Scale: 0
Copyright Text:
Service Data Type: esriImageServiceDataTypeGeneric
Min Values: 0, 0, 0, 0
Max Values: 1, 1, 1, 1
Mean Values: 0.2976184117196329, 0.2976184117196329, 0.2976184117196329, 0.36679900473163146
Standard Deviation Values: 0.45721091693364513, 0.45721091693364513, 0.45721091693364513, 0.48193115599357994
Object ID Field: OBJECTID
Fields:
-
OBJECTID
(
type: esriFieldTypeOID, alias: OBJECTID
)
-
Shape
(
type: esriFieldTypeGeometry, alias: Shape
)
-
Name
(
type: esriFieldTypeString, alias: Name, length: 200
)
-
Category
(
type: esriFieldTypeInteger, alias: Category
, Coded Values:
[0: Unknown]
, [1: Primary]
, [2: Overview]
, ...6 more...
)
-
Tag
(
type: esriFieldTypeString, alias: Tag, length: 100
)
-
GroupName
(
type: esriFieldTypeString, alias: GroupName, length: 100
)
-
ProductName
(
type: esriFieldTypeString, alias: ProductName, length: 100
)
-
CenterX
(
type: esriFieldTypeDouble, alias: CenterX
)
-
CenterY
(
type: esriFieldTypeDouble, alias: CenterY
)
-
ZOrder
(
type: esriFieldTypeInteger, alias: ZOrder
)
-
Shape_Length
(
type: esriFieldTypeDouble, alias: Shape_Length
)
-
Shape_Area
(
type: esriFieldTypeDouble, alias: Shape_Area
)
-
hyv_pvm
(
type: esriFieldTypeDate, alias: hyv_pvm, length: 8
)
Default Mosaic Method: Northwest
Allowed Mosaic Methods: NorthWest,Center,LockRaster,ByAttribute,Nadir,Viewpoint,Seamline,None
SortField:
SortValue: null
Mosaic Operator: First
Default Compression Quality: 75
Default Resampling Method: Bilinear
Max Record Count: 1000
Max Image Height: 4100
Max Image Width: 15000
Max Download Image Count: 20
Max Mosaic Image Count: 20
Allow Raster Function: true
Allow Copy: true
Allow Analysis: true
Allow Compute TiePoints: false
Supports Statistics: true
Supports Advanced Queries: true
Use StandardizedQueries: true
Raster Type Infos:
Name: Raster Dataset
Description: Supports all ArcGIS Raster Datasets
Help:
Has Raster Attribute Table: false
Edit Fields Info: null
Ownership Based AccessControl For Rasters: null
Child Resources:
Info
Histograms
Statistics
Key Properties
Legend
Raster Function Infos
Supported Operations:
Export Image
Query
Identify
Measure
Compute Histograms
Compute Statistics Histograms
Get Samples
Compute Class Statistics
Query GPS Info
Find Images
Image to Map
Map to Image
Measure from Image
Image to Map Multiray
Query Boundary
Compute Pixel Location
Compute Angles
Validate
Project