{
 "currentVersion": 11.3,
 "serviceDescription": "Kaavoitus/Kaavat_testi_mosaic_dataset",
 "name": "Kaavoitus/Kaavat_testi_mosaic_dataset",
 "description": "",
 "extent": {
  "xmin": 2.2480137148525618E7,
  "ymin": 6999439.678244021,
  "xmax": 2.2480431348525614E7,
  "ymax": 6999678.678244016,
  "spatialReference": {
   "wkid": 3876,
   "latestWkid": 3876
  }
 },
 "initialExtent": {
  "xmin": 2.2480137148525618E7,
  "ymin": 6999439.678244021,
  "xmax": 2.2480431348525614E7,
  "ymax": 6999678.678244016,
  "spatialReference": {
   "wkid": 3876,
   "latestWkid": 3876
  }
 },
 "fullExtent": {
  "xmin": 2.2480137148525618E7,
  "ymin": 6999439.678244021,
  "xmax": 2.2480431348525614E7,
  "ymax": 6999678.678244016,
  "spatialReference": {
   "wkid": 3876,
   "latestWkid": 3876
  }
 },
 "sortableFields": "",
 "bandCount": 4,
 "pixelType": "U1",
 "minValues": [
  0,
  0,
  0,
  0
 ],
 "maxValues": [
  1,
  1,
  1,
  1
 ],
 "meanValues": [
  0.2976184117196329,
  0.2976184117196329,
  0.2976184117196329,
  0.36679900473163146
 ],
 "stdvValues": [
  0.45721091693364513,
  0.45721091693364513,
  0.45721091693364513,
  0.48193115599357994
 ],
 "hasMultidimensions": false,
 "timeInfo": {
  "startTimeField": "hyv_pvm",
  "endTimeField": null,
  "timeExtent": [
   419472000000,
   917222400000
  ],
  "timeReference": null
 },
 "pixelSizeX": 0.19999999999696103,
 "pixelSizeY": 0.19999999999610324,
 "meanPixelSize": 0.19999999999653212,
 "datasetFormat": "AMD",
 "uncompressedSize": 878923,
 "blockWidth": 2048,
 "blockHeight": 256,
 "compressionType": "None",
 "bandNames": [
  "Band_1",
  "Band_2",
  "Band_3",
  "Band_4"
 ],
 "allowCopy": true,
 "allowAnalysis": true,
 "itemAccess": false,
 "inspectionCapabilities": "",
 "minPixelSize": 0,
 "maxPixelSize": 0,
 "copyrightText": "",
 "serviceDataType": "esriImageServiceDataTypeGeneric",
 "serviceSourceType": "esriImageServiceSourceTypeMosaicDataset",
 "objectIdField": "OBJECTID",
 "fields": [
  {
   "name": "OBJECTID",
   "type": "esriFieldTypeOID",
   "alias": "OBJECTID",
   "domain": null
  },
  {
   "name": "Shape",
   "type": "esriFieldTypeGeometry",
   "alias": "Shape",
   "domain": null
  },
  {
   "name": "Name",
   "type": "esriFieldTypeString",
   "alias": "Name",
   "domain": null,
   "length": 200
  },
  {
   "name": "Category",
   "type": "esriFieldTypeInteger",
   "alias": "Category",
   "domain": {
    "type": "codedValue",
    "name": "MosaicCatalogItemCategoryDomain",
    "description": "Catalog item categories.",
    "codedValues": [
     {
      "name": "Unknown",
      "code": 0
     },
     {
      "name": "Primary",
      "code": 1
     },
     {
      "name": "Overview",
      "code": 2
     },
     {
      "name": "Unprocessed Overview",
      "code": 3
     },
     {
      "name": "Partial Overview",
      "code": 4
     },
     {
      "name": "Inactive",
      "code": 5
     },
     {
      "name": "Uploaded",
      "code": 253
     },
     {
      "name": "Incomplete",
      "code": 254
     },
     {
      "name": "Custom",
      "code": 255
     }
    ],
    "mergePolicy": "esriMPTDefaultValue",
    "splitPolicy": "esriSPTDefaultValue"
   }
  },
  {
   "name": "Tag",
   "type": "esriFieldTypeString",
   "alias": "Tag",
   "domain": null,
   "length": 100
  },
  {
   "name": "GroupName",
   "type": "esriFieldTypeString",
   "alias": "GroupName",
   "domain": null,
   "length": 100
  },
  {
   "name": "ProductName",
   "type": "esriFieldTypeString",
   "alias": "ProductName",
   "domain": null,
   "length": 100
  },
  {
   "name": "CenterX",
   "type": "esriFieldTypeDouble",
   "alias": "CenterX",
   "domain": null
  },
  {
   "name": "CenterY",
   "type": "esriFieldTypeDouble",
   "alias": "CenterY",
   "domain": null
  },
  {
   "name": "ZOrder",
   "type": "esriFieldTypeInteger",
   "alias": "ZOrder",
   "domain": null
  },
  {
   "name": "Shape_Length",
   "type": "esriFieldTypeDouble",
   "alias": "Shape_Length",
   "domain": null
  },
  {
   "name": "Shape_Area",
   "type": "esriFieldTypeDouble",
   "alias": "Shape_Area",
   "domain": null
  },
  {
   "name": "hyv_pvm",
   "type": "esriFieldTypeDate",
   "alias": "hyv_pvm",
   "domain": null,
   "length": 8
  }
 ],
 "capabilities": "Image,Metadata,Catalog,Mensuration",
 "defaultMosaicMethod": "Northwest",
 "allowedMosaicMethods": "NorthWest,Center,LockRaster,ByAttribute,Nadir,Viewpoint,Seamline,None",
 "sortField": "",
 "sortValue": null,
 "sortAscending": true,
 "mosaicOperator": "First",
 "maxDownloadSizeLimit": 2048,
 "defaultCompressionQuality": 75,
 "defaultResamplingMethod": "Bilinear",
 "maxImageHeight": 4100,
 "maxImageWidth": 15000,
 "maxRecordCount": 1000,
 "maxDownloadImageCount": 20,
 "maxMosaicImageCount": 20,
 "allowRasterFunction": true,
 "rasterFunctionInfos": [
  {
   "name": "None",
   "description": "",
   "help": ""
  }
 ],
 "rasterTypeInfos": [
  {
   "name": "Raster Dataset",
   "description": "Supports all ArcGIS Raster Datasets",
   "help": ""
  }
 ],
 "mensurationCapabilities": "Basic",
 "hasHistograms": true,
 "hasColormap": false,
 "hasRasterAttributeTable": false,
 "minScale": 0,
 "maxScale": 0,
 "exportTilesAllowed": false,
 "supportsStatistics": true,
 "supportsAdvancedQueries": true,
 "editFieldsInfo": null,
 "ownershipBasedAccessControlForRasters": null,
 "allowComputeTiePoints": false,
 "useStandardizedQueries": true,
 "advancedQueryCapabilities": {
  "useStandardizedQueries": true,
  "supportsStatistics": true,
  "supportsOrderBy": true,
  "supportsDistinct": true,
  "supportsPagination": true
 },
 "spatialReference": {
  "wkid": 3876,
  "latestWkid": 3876
 }
}
