View In:
ArcGIS JavaScript
ArcGIS Online Map Viewer
ArcGIS Earth
Service Description: Kaavoitus/Ajantasayleiskaava
Name: Kaavoitus/Ajantasayleiskaava
Description:
Single Fused Map Cache: true
Tile Info:
- Height: 256
- Width: 256
- DPI: 96
-
Levels of Detail: 19
-
Level ID: 0
[ Start Tile, End Tile ]
- Resolution: 78140.349447094
- Scale: 2.953336042094891E8
-
Level ID: 1
[ Start Tile, End Tile ]
- Resolution: 39070.174723547
- Scale: 1.4766680210474455E8
-
Level ID: 2
[ Start Tile, End Tile ]
- Resolution: 19535.0873617735
- Scale: 7.383340105237228E7
-
Level ID: 3
[ Start Tile, End Tile ]
- Resolution: 9767.54368088675
- Scale: 3.691670052618614E7
-
Level ID: 4
[ Start Tile, End Tile ]
- Resolution: 4883.771840443375
- Scale: 1.845835026309307E7
-
Level ID: 5
[ Start Tile, End Tile ]
- Resolution: 2441.8859202216877
- Scale: 9229175.131546535
-
Level ID: 6
[ Start Tile, End Tile ]
- Resolution: 1220.9429601108438
- Scale: 4614587.565773267
-
Level ID: 7
[ Start Tile, End Tile ]
- Resolution: 610.4714800554219
- Scale: 2307293.7828866336
-
Level ID: 8
[ Start Tile, End Tile ]
- Resolution: 305.23574002771096
- Scale: 1153646.8914433168
-
Level ID: 9
[ Start Tile, End Tile ]
- Resolution: 152.61787001385548
- Scale: 576823.4457216584
-
Level ID: 10
[ Start Tile, End Tile ]
- Resolution: 76.30893500692774
- Scale: 288411.7228608292
-
Level ID: 11
[ Start Tile, End Tile ]
- Resolution: 38.15446750346387
- Scale: 144205.8614304146
-
Level ID: 12
[ Start Tile, End Tile ]
- Resolution: 19.077233751731935
- Scale: 72102.9307152073
-
Level ID: 13
[ Start Tile, End Tile ]
- Resolution: 9.538616875865968
- Scale: 36051.46535760365
-
Level ID: 14
[ Start Tile, End Tile ]
- Resolution: 4.769308437932984
- Scale: 18025.732678801825
-
Level ID: 15
[ Start Tile, End Tile ]
- Resolution: 2.384654218966492
- Scale: 9012.866339400913
-
Level ID: 16
[ Start Tile, End Tile ]
- Resolution: 1.192327109483246
- Scale: 4506.433169700456
-
Level ID: 17
[ Start Tile, End Tile ]
- Resolution: 0.596163554741623
- Scale: 2253.216584850228
-
Level ID: 18
[ Start Tile, End Tile ]
- Resolution: 0.2980817773708115
- Scale: 1126.608292425114
- Format: PNG
- Compression Quality: 0.0
- LERC Error: NaN
- Origin: X: 1.2498035270771967E7
Y: 1.0001964729228033E7
- Spatial Reference: 3876
(3876)
LatestVCSWkid(0)
Storage Info:
- Storage Format: esriMapCacheStorageModeCompactV2
- Packet Size: 128
Extent:
XMin: 2.245887143273991E7
YMin: 6986964.301983964
XMax: 2.250838556173745E7
YMax: 7008425.710610803
Spatial Reference: 3876
(3876)
LatestVCSWkid(0)
Initial Extent:
XMin: 2.245887143273991E7
YMin: 6986964.301983964
XMax: 2.250838556173745E7
YMax: 7008425.710610803
Spatial Reference: 3876
(3876)
LatestVCSWkid(0)
Full Extent:
XMin: 2.245887143273991E7
YMin: 6986964.301983964
XMax: 2.250838556173745E7
YMax: 7008425.710610803
Spatial Reference: 3876
(3876)
LatestVCSWkid(0)
Pixel Size X: 0.33885007936781064
Pixel Size Y: 0.3388500793678085
Band Count: 3
Pixel Type: S16
RasterFunction Infos: {"rasterFunctionInfos": [
{
"name": "None",
"description": "Make a Raster or Raster Dataset into a Function Raster Dataset.",
"help": ""
},
{
"name": "None",
"description": "Make a Raster or Raster Dataset into a Function Raster Dataset.",
"help": ""
}
]}
Mensuration Capabilities: Basic
Inspection Capabilities:
Has Histograms: true
Has Colormap: false
Has Multi Dimensions : false
Rendering Rule:
Min Scale: 576823.4457216584
Max Scale: 1126.608292425114
Min LOD: 9
Max LOD: 18
Copyright Text:
Service Data Type: esriImageServiceDataTypeGeneric
Min Values: 9.842218137254832E-4, 9.842218137254832E-4, 9.842218137254832E-4
Max Values: 254.50096890318628, 254.50096890318628, 254.50096890318628
Mean Values: 235.95479478331163, 239.46786688796163, 240.7770245639853
Standard Deviation Values: 42.88145299371015, 37.67052634334805, 34.4517018657407
Object ID Field: OBJECTID
Fields:
-
OBJECTID
(
type: esriFieldTypeOID, alias: OBJECTID
)
-
Shape
(
type: esriFieldTypeGeometry, alias: Shape
)
-
Name
(
type: esriFieldTypeString, alias: Name, length: 200
)
-
MinPS
(
type: esriFieldTypeDouble, alias: MinPS
)
-
MaxPS
(
type: esriFieldTypeDouble, alias: MaxPS
)
-
LowPS
(
type: esriFieldTypeDouble, alias: LowPS
)
-
HighPS
(
type: esriFieldTypeDouble, alias: HighPS
)
-
Category
(
type: esriFieldTypeInteger, alias: Category
, Coded Values:
[0: Unknown]
, [1: Primary]
, [2: Overview]
, ...6 more...
)
-
Tag
(
type: esriFieldTypeString, alias: Tag, length: 100
)
-
GroupName
(
type: esriFieldTypeString, alias: GroupName, length: 100
)
-
ProductName
(
type: esriFieldTypeString, alias: ProductName, length: 100
)
-
CenterX
(
type: esriFieldTypeDouble, alias: CenterX
)
-
CenterY
(
type: esriFieldTypeDouble, alias: CenterY
)
-
ZOrder
(
type: esriFieldTypeInteger, alias: ZOrder
)
-
Shape_Length
(
type: esriFieldTypeDouble, alias: Shape_Length
)
-
Shape_Area
(
type: esriFieldTypeDouble, alias: Shape_Area
)
Default Mosaic Method: Northwest
Allowed Mosaic Methods: NorthWest,Center,LockRaster,ByAttribute,Nadir,Viewpoint,Seamline,None
SortField:
SortValue: null
Mosaic Operator: First
Default Compression Quality: 75
Default Resampling Method: Bilinear
Max Record Count: 1000
Max Image Height: 4100
Max Image Width: 15000
Max Download Image Count: 20
Max Mosaic Image Count: 20
Allow Raster Function: true
Allow Copy: true
Allow Analysis: true
Allow Compute TiePoints: false
Supports Statistics: true
Supports Advanced Queries: true
Use StandardizedQueries: true
Raster Type Infos:
Name: Raster Dataset
Description: Supports all ArcGIS Raster Datasets
Help:
Has Raster Attribute Table: false
Edit Fields Info: null
Ownership Based AccessControl For Rasters: null
Child Resources:
Info
Histograms
Statistics
Key Properties
Legend
Raster Function Infos
Supported Operations:
Export Image
Query
Identify
Download Rasters
Get Image Url
Measure
Compute Histograms
Compute Statistics Histograms
Get Samples
Compute Class Statistics
Query GPS Info
Find Images
Image to Map
Map to Image
Measure from Image
Image to Map Multiray
Query Boundary
Compute Pixel Location
Compute Angles
Validate
Project
EstimateExportTilesSize
ExportTiles