{
 "currentVersion": 11.3,
 "serviceDescription": "Kaavoitus/Ajantasayleiskaava",
 "name": "Kaavoitus/Ajantasayleiskaava",
 "description": "",
 "extent": {
  "xmin": 2.245887143273991E7,
  "ymin": 6986964.301983964,
  "xmax": 2.250838556173745E7,
  "ymax": 7008425.710610803,
  "spatialReference": {
   "wkid": 3876,
   "latestWkid": 3876
  }
 },
 "initialExtent": {
  "xmin": 2.245887143273991E7,
  "ymin": 6986964.301983964,
  "xmax": 2.250838556173745E7,
  "ymax": 7008425.710610803,
  "spatialReference": {
   "wkid": 3876,
   "latestWkid": 3876
  }
 },
 "fullExtent": {
  "xmin": 2.245887143273991E7,
  "ymin": 6986964.301983964,
  "xmax": 2.250838556173745E7,
  "ymax": 7008425.710610803,
  "spatialReference": {
   "wkid": 3876,
   "latestWkid": 3876
  }
 },
 "sortableFields": "MinPS,MaxPS,LowPS,HighPS,CenterX,CenterY,ZOrder,Shape_Length,Shape_Area",
 "bandCount": 3,
 "pixelType": "S16",
 "minValues": [
  9.842218137254832E-4,
  9.842218137254832E-4,
  9.842218137254832E-4
 ],
 "maxValues": [
  254.50096890318628,
  254.50096890318628,
  254.50096890318628
 ],
 "meanValues": [
  235.95479478331163,
  239.46786688796163,
  240.7770245639853
 ],
 "stdvValues": [
  42.88145299371015,
  37.67052634334805,
  34.4517018657407
 ],
 "hasMultidimensions": false,
 "pixelSizeX": 0.33885007936781064,
 "pixelSizeY": 0.3388500793678085,
 "meanPixelSize": 0.33885007936780953,
 "datasetFormat": "AMD",
 "uncompressedSize": 55529457984,
 "blockWidth": 2048,
 "blockHeight": 256,
 "compressionType": "None",
 "bandNames": [
  "Band_1",
  "Band_2",
  "Band_3"
 ],
 "allowCopy": true,
 "allowAnalysis": true,
 "itemAccess": false,
 "inspectionCapabilities": "",
 "minPixelSize": 0.2980817773708115,
 "maxPixelSize": 152.61787001385548,
 "copyrightText": "",
 "serviceDataType": "esriImageServiceDataTypeGeneric",
 "serviceSourceType": "esriImageServiceSourceTypeMosaicDataset",
 "objectIdField": "OBJECTID",
 "fields": [
  {
   "name": "OBJECTID",
   "type": "esriFieldTypeOID",
   "alias": "OBJECTID",
   "domain": null
  },
  {
   "name": "Shape",
   "type": "esriFieldTypeGeometry",
   "alias": "Shape",
   "domain": null
  },
  {
   "name": "Name",
   "type": "esriFieldTypeString",
   "alias": "Name",
   "domain": null,
   "length": 200
  },
  {
   "name": "MinPS",
   "type": "esriFieldTypeDouble",
   "alias": "MinPS",
   "domain": null
  },
  {
   "name": "MaxPS",
   "type": "esriFieldTypeDouble",
   "alias": "MaxPS",
   "domain": null
  },
  {
   "name": "LowPS",
   "type": "esriFieldTypeDouble",
   "alias": "LowPS",
   "domain": null
  },
  {
   "name": "HighPS",
   "type": "esriFieldTypeDouble",
   "alias": "HighPS",
   "domain": null
  },
  {
   "name": "Category",
   "type": "esriFieldTypeInteger",
   "alias": "Category",
   "domain": {
    "type": "codedValue",
    "name": "MosaicCatalogItemCategoryDomain",
    "description": "Catalog item categories.",
    "codedValues": [
     {
      "name": "Unknown",
      "code": 0
     },
     {
      "name": "Primary",
      "code": 1
     },
     {
      "name": "Overview",
      "code": 2
     },
     {
      "name": "Unprocessed Overview",
      "code": 3
     },
     {
      "name": "Partial Overview",
      "code": 4
     },
     {
      "name": "Inactive",
      "code": 5
     },
     {
      "name": "Uploaded",
      "code": 253
     },
     {
      "name": "Incomplete",
      "code": 254
     },
     {
      "name": "Custom",
      "code": 255
     }
    ],
    "mergePolicy": "esriMPTDefaultValue",
    "splitPolicy": "esriSPTDefaultValue"
   }
  },
  {
   "name": "Tag",
   "type": "esriFieldTypeString",
   "alias": "Tag",
   "domain": null,
   "length": 100
  },
  {
   "name": "GroupName",
   "type": "esriFieldTypeString",
   "alias": "GroupName",
   "domain": null,
   "length": 100
  },
  {
   "name": "ProductName",
   "type": "esriFieldTypeString",
   "alias": "ProductName",
   "domain": null,
   "length": 100
  },
  {
   "name": "CenterX",
   "type": "esriFieldTypeDouble",
   "alias": "CenterX",
   "domain": null
  },
  {
   "name": "CenterY",
   "type": "esriFieldTypeDouble",
   "alias": "CenterY",
   "domain": null
  },
  {
   "name": "ZOrder",
   "type": "esriFieldTypeInteger",
   "alias": "ZOrder",
   "domain": null
  },
  {
   "name": "Shape_Length",
   "type": "esriFieldTypeDouble",
   "alias": "Shape_Length",
   "domain": null
  },
  {
   "name": "Shape_Area",
   "type": "esriFieldTypeDouble",
   "alias": "Shape_Area",
   "domain": null
  }
 ],
 "capabilities": "Image,Metadata,Mensuration,Catalog,Download",
 "defaultMosaicMethod": "Northwest",
 "allowedMosaicMethods": "NorthWest,Center,LockRaster,ByAttribute,Nadir,Viewpoint,Seamline,None",
 "sortField": "",
 "sortValue": null,
 "sortAscending": true,
 "mosaicOperator": "First",
 "maxDownloadSizeLimit": 2048,
 "defaultCompressionQuality": 75,
 "defaultResamplingMethod": "Bilinear",
 "maxImageHeight": 4100,
 "maxImageWidth": 15000,
 "maxRecordCount": 1000,
 "maxDownloadImageCount": 20,
 "maxMosaicImageCount": 20,
 "singleFusedMapCache": true,
 "tileInfo": {
  "rows": 256,
  "cols": 256,
  "dpi": 96,
  "format": "PNG",
  "compressionQuality": 0,
  "origin": {
   "x": 1.2498035270771967E7,
   "y": 1.0001964729228033E7
  },
  "spatialReference": {
   "wkid": 3876,
   "latestWkid": 3876
  },
  "lods": [
   {
    "level": 0,
    "resolution": 78140.349447094,
    "scale": 2.953336042094891E8
   },
   {
    "level": 1,
    "resolution": 39070.174723547,
    "scale": 1.4766680210474455E8
   },
   {
    "level": 2,
    "resolution": 19535.0873617735,
    "scale": 7.383340105237228E7
   },
   {
    "level": 3,
    "resolution": 9767.54368088675,
    "scale": 3.691670052618614E7
   },
   {
    "level": 4,
    "resolution": 4883.771840443375,
    "scale": 1.845835026309307E7
   },
   {
    "level": 5,
    "resolution": 2441.8859202216877,
    "scale": 9229175.131546535
   },
   {
    "level": 6,
    "resolution": 1220.9429601108438,
    "scale": 4614587.565773267
   },
   {
    "level": 7,
    "resolution": 610.4714800554219,
    "scale": 2307293.7828866336
   },
   {
    "level": 8,
    "resolution": 305.23574002771096,
    "scale": 1153646.8914433168
   },
   {
    "level": 9,
    "resolution": 152.61787001385548,
    "scale": 576823.4457216584
   },
   {
    "level": 10,
    "resolution": 76.30893500692774,
    "scale": 288411.7228608292
   },
   {
    "level": 11,
    "resolution": 38.15446750346387,
    "scale": 144205.8614304146
   },
   {
    "level": 12,
    "resolution": 19.077233751731935,
    "scale": 72102.9307152073
   },
   {
    "level": 13,
    "resolution": 9.538616875865968,
    "scale": 36051.46535760365
   },
   {
    "level": 14,
    "resolution": 4.769308437932984,
    "scale": 18025.732678801825
   },
   {
    "level": 15,
    "resolution": 2.384654218966492,
    "scale": 9012.866339400913
   },
   {
    "level": 16,
    "resolution": 1.192327109483246,
    "scale": 4506.433169700456
   },
   {
    "level": 17,
    "resolution": 0.596163554741623,
    "scale": 2253.216584850228
   },
   {
    "level": 18,
    "resolution": 0.2980817773708115,
    "scale": 1126.608292425114
   }
  ]
 },
 "storageInfo": {
  "storageFormat": "esriMapCacheStorageModeCompactV2",
  "packetSize": 128
 },
 "cacheType": "Map",
 "allowRasterFunction": true,
 "rasterFunctionInfos": [
  {
   "name": "None",
   "description": "Make a Raster or Raster Dataset into a Function Raster Dataset.",
   "help": ""
  },
  {
   "name": "None",
   "description": "Make a Raster or Raster Dataset into a Function Raster Dataset.",
   "help": ""
  }
 ],
 "rasterTypeInfos": [
  {
   "name": "Raster Dataset",
   "description": "Supports all ArcGIS Raster Datasets",
   "help": ""
  }
 ],
 "mensurationCapabilities": "Basic",
 "hasHistograms": true,
 "hasColormap": false,
 "hasRasterAttributeTable": false,
 "minScale": 576823.4457216584,
 "maxScale": 1126.608292425114,
 "minLOD": 9,
 "maxLOD": 18,
 "exportTilesAllowed": true,
 "maxExportTilesCount": 100000,
 "supportsStatistics": true,
 "supportsAdvancedQueries": true,
 "editFieldsInfo": null,
 "ownershipBasedAccessControlForRasters": null,
 "allowComputeTiePoints": false,
 "useStandardizedQueries": true,
 "advancedQueryCapabilities": {
  "useStandardizedQueries": true,
  "supportsStatistics": true,
  "supportsOrderBy": true,
  "supportsDistinct": true,
  "supportsPagination": true
 },
 "spatialReference": {
  "wkid": 3876,
  "latestWkid": 3876
 }
}
