View In:
ArcGIS JavaScript
ArcGIS Online Map Viewer
ArcGIS Earth
Service Description: Mosaic skannatuista Maanmittaushallituksen vuoden 1963 ilmakuvista.
Name: Ilmakuvat/MMH63_Mosaic_tif
Description: Mosaic skannatuista Maanmittaushallituksen vuoden 1963 ilmakuvista.
Single Fused Map Cache: false
Extent:
XMin: 2.2475006211858574E7
YMin: 6994432.48269522
XMax: 2.2488154789434273E7
YMax: 7004697.975732082
Spatial Reference: 3876
(3876)
LatestVCSWkid(0)
Initial Extent:
XMin: 2.2475006211858574E7
YMin: 6994432.48269522
XMax: 2.2488154789434273E7
YMax: 7004697.975732082
Spatial Reference: 3876
(3876)
LatestVCSWkid(0)
Full Extent:
XMin: 2.2475006211858574E7
YMin: 6994432.48269522
XMax: 2.2488154789434273E7
YMax: 7004697.975732082
Spatial Reference: 3876
(3876)
LatestVCSWkid(0)
Pixel Size X: 0.15507958360694565
Pixel Size Y: 0.15507958360694207
Band Count: 1
Pixel Type: U8
RasterFunction Infos: {"rasterFunctionInfos": [{
"name": "None",
"description": "",
"help": ""
}]}
Mensuration Capabilities: Basic
Inspection Capabilities:
Has Histograms: false
Has Colormap: false
Has Multi Dimensions : false
Rendering Rule:
Min Scale: 0
Max Scale: 0
Copyright Text:
Service Data Type: esriImageServiceDataTypeGeneric
Min Values: 24
Max Values: 252
Mean Values: 116.52095786806
Standard Deviation Values: 36.681977897359
Object ID Field:
Fields:
None
Default Mosaic Method: Center
Allowed Mosaic Methods:
SortField:
SortValue: null
Mosaic Operator: First
Default Compression Quality: 75
Default Resampling Method: Bilinear
Max Record Count: null
Max Image Height: 4100
Max Image Width: 15000
Max Download Image Count: null
Max Mosaic Image Count: null
Allow Raster Function: true
Allow Copy: true
Allow Analysis: true
Allow Compute TiePoints: false
Supports Statistics: false
Supports Advanced Queries: false
Use StandardizedQueries: true
Raster Type Infos:
Name: Raster Dataset
Description: Supports all ArcGIS Raster Datasets
Help:
Has Raster Attribute Table: false
Edit Fields Info: null
Ownership Based AccessControl For Rasters: null
Child Resources:
Info
Statistics
Key Properties
Legend
Raster Function Infos
Supported Operations:
Export Image
Identify
Compute Histograms
Compute Statistics Histograms
Get Samples
Compute Class Statistics
Query Boundary
Compute Pixel Location
Compute Angles
Validate
Project