{ "currentVersion": 11.3, "serviceDescription": "
Mosaic skannatuista Maanmittaushallituksen vuoden 1963 ilmakuvista. <\/span><\/p><\/div>",
"name": "Ilmakuvat/MMH63_Mosaic_tif",
"description": " Mosaic skannatuista Maanmittaushallituksen vuoden 1963 ilmakuvista. <\/span><\/p><\/div>",
"extent": {
"xmin": 2.2475006211858574E7,
"ymin": 6994432.48269522,
"xmax": 2.2488154789434273E7,
"ymax": 7004697.975732082,
"spatialReference": {
"wkid": 3876,
"latestWkid": 3876
}
},
"initialExtent": {
"xmin": 2.2475006211858574E7,
"ymin": 6994432.48269522,
"xmax": 2.2488154789434273E7,
"ymax": 7004697.975732082,
"spatialReference": {
"wkid": 3876,
"latestWkid": 3876
}
},
"fullExtent": {
"xmin": 2.2475006211858574E7,
"ymin": 6994432.48269522,
"xmax": 2.2488154789434273E7,
"ymax": 7004697.975732082,
"spatialReference": {
"wkid": 3876,
"latestWkid": 3876
}
},
"sortableFields": "",
"bandCount": 1,
"pixelType": "U8",
"minValues": [
24
],
"maxValues": [
252
],
"meanValues": [
116.52095786806
],
"stdvValues": [
36.681977897359
],
"hasMultidimensions": false,
"pixelSizeX": 0.15507958360694565,
"pixelSizeY": 0.15507958360694207,
"meanPixelSize": 0.15507958360694385,
"datasetFormat": "TIFF",
"uncompressedSize": 5612409270,
"blockWidth": 128,
"blockHeight": 128,
"compressionType": "LZW",
"bandNames": [
"Band_1"
],
"allowCopy": true,
"allowAnalysis": true,
"itemAccess": false,
"inspectionCapabilities": "",
"noDataValue": 0,
"noDataValues": [
0
],
"minPixelSize": 0,
"maxPixelSize": 0,
"copyrightText": "",
"serviceDataType": "esriImageServiceDataTypeGeneric",
"serviceSourceType": "esriImageServiceSourceTypeDataset",
"objectIdField": "",
"fields": [],
"capabilities": "Image,Metadata",
"defaultMosaicMethod": "Center",
"allowedMosaicMethods": "",
"sortField": "",
"sortValue": null,
"sortAscending": true,
"mosaicOperator": "First",
"defaultCompressionQuality": 75,
"defaultResamplingMethod": "Bilinear",
"maxImageHeight": 4100,
"maxImageWidth": 15000,
"allowRasterFunction": true,
"rasterFunctionInfos": [
{
"name": "None",
"description": "",
"help": ""
}
],
"rasterTypeInfos": [
{
"name": "Raster Dataset",
"description": "Supports all ArcGIS Raster Datasets",
"help": ""
}
],
"mensurationCapabilities": "Basic",
"hasHistograms": false,
"hasColormap": false,
"hasRasterAttributeTable": false,
"minScale": 0,
"maxScale": 0,
"exportTilesAllowed": false,
"supportsStatistics": false,
"supportsAdvancedQueries": false,
"editFieldsInfo": null,
"ownershipBasedAccessControlForRasters": null,
"allowComputeTiePoints": false,
"useStandardizedQueries": true,
"advancedQueryCapabilities": {
"useStandardizedQueries": true,
"supportsStatistics": false,
"supportsOrderBy": false,
"supportsDistinct": false,
"supportsPagination": false
},
"spatialReference": {
"wkid": 3876,
"latestWkid": 3876
}
}